BEGIN:VCALENDAR
VERSION:2.0
PRODID:-//X-CEL Swimming - ECPv6.15.20//NONSGML v1.0//EN
CALSCALE:GREGORIAN
METHOD:PUBLISH
X-WR-CALNAME:X-CEL Swimming
X-ORIGINAL-URL:https://swimxcel.org
X-WR-CALDESC:Events for X-CEL Swimming
REFRESH-INTERVAL;VALUE=DURATION:PT1H
X-Robots-Tag:noindex
X-PUBLISHED-TTL:PT1H
BEGIN:VTIMEZONE
TZID:America/New_York
BEGIN:DAYLIGHT
TZOFFSETFROM:-0500
TZOFFSETTO:-0400
TZNAME:EDT
DTSTART:20240310T070000
END:DAYLIGHT
BEGIN:STANDARD
TZOFFSETFROM:-0400
TZOFFSETTO:-0500
TZNAME:EST
DTSTART:20241103T060000
END:STANDARD
BEGIN:DAYLIGHT
TZOFFSETFROM:-0500
TZOFFSETTO:-0400
TZNAME:EDT
DTSTART:20250309T070000
END:DAYLIGHT
BEGIN:STANDARD
TZOFFSETFROM:-0400
TZOFFSETTO:-0500
TZNAME:EST
DTSTART:20251102T060000
END:STANDARD
BEGIN:DAYLIGHT
TZOFFSETFROM:-0500
TZOFFSETTO:-0400
TZNAME:EDT
DTSTART:20260308T070000
END:DAYLIGHT
BEGIN:STANDARD
TZOFFSETFROM:-0400
TZOFFSETTO:-0500
TZNAME:EST
DTSTART:20261101T060000
END:STANDARD
END:VTIMEZONE
BEGIN:VEVENT
DTSTART;TZID=America/New_York:20250408T183000
DTEND;TZID=America/New_York:20250408T203000
DTSTAMP:20260421T144644
CREATED:20250318T205639Z
LAST-MODIFIED:20250318T210317Z
UID:4834-1744137000-1744144200@swimxcel.org
SUMMARY:2025 Spring Team Fitting
DESCRIPTION:X-CEL Spring25 Team Fitting \nFitting Date: Tue 4/8/25 @ 6:30-8:30pm\nOrders Close: Fri\, 4/11/15\nEst Delivery:  Fri 5/16/25- ship to the club\nTeam Suit:  CUSTOM: Arena Escape in Green\nCREDIT CARDS ONLY\, no Cash or Checks. \nOn-line Team Portal LINK:\nhttps://metroswimshop.com/pages/team-account?teamid=x-cel \nFitting Cover Sheet  Link\nOrder Form   Link
URL:https://swimxcel.org/event/2025springteamfitting/
LOCATION:Denunzio Pool\, 47 Faculty Rd\, Princeton\, NJ\, 08540\, United States
ATTACH;FMTTYPE=image/jpeg:https://swimxcel.org/wp-content/uploads/2025/03/2025-Spring-Fitting-1.jpg
ORGANIZER;CN="X-Cel Swimming":MAILTO:headcoach@swimxcel.org
END:VEVENT
BEGIN:VEVENT
DTSTART;TZID=America/New_York:20250427T180000
DTEND;TZID=America/New_York:20250427T210000
DTSTAMP:20260421T144644
CREATED:20250317T171923Z
LAST-MODIFIED:20250317T185932Z
UID:4825-1745776800-1745787600@swimxcel.org
SUMMARY:2025 X-CEL Annual Banquet
DESCRIPTION:2025 X-Cel Annual Banquet \n\nJoin us in celebrating the graduation class of 2025 and all X-CEL swimmers!\nEnjoy dinner\, fun activities\, and dance till you drop.\nAll are welcome-bring your family and friends! \nPlease RSVP by April 15th. Include your swimmer’s name\, level\, and total headcount. Do not include children 3 and under. \nCost is $40 per person and will be deducted from escrow based on your reservation.\n====================== \nDate: Sunday\, April 27\n\nTime: 6:00 PM – 9:00 PM EDT \nLocation: Mercer Oaks Golf Course\n725 Village Rd W\nWest Windsor Township\, NJ 08550  \n  \nRSVP\nScan QR Code or \nhttps://bit.ly/2025XCELBanquet\n  \n 
URL:https://swimxcel.org/event/2025banquet/
LOCATION:Mercer Oaks Golf Course\, 725 Village Road West\, West Windsor\, NJ\, 08550\, United States
ATTACH;FMTTYPE=image/jpeg:https://swimxcel.org/wp-content/uploads/2025/03/2025-XCEL-Banquet.jpg
ORGANIZER;CN="X-Cel Swimming":MAILTO:headcoach@swimxcel.org
END:VEVENT
END:VCALENDAR