BEGIN:VCALENDAR
VERSION:2.0
PRODID:-//X-CEL Swimming - ECPv6.15.20//NONSGML v1.0//EN
CALSCALE:GREGORIAN
METHOD:PUBLISH
X-ORIGINAL-URL:https://swimxcel.org
X-WR-CALDESC:Events for X-CEL Swimming
REFRESH-INTERVAL;VALUE=DURATION:PT1H
X-Robots-Tag:noindex
X-PUBLISHED-TTL:PT1H
BEGIN:VTIMEZONE
TZID:America/New_York
BEGIN:DAYLIGHT
TZOFFSETFROM:-0500
TZOFFSETTO:-0400
TZNAME:EDT
DTSTART:20230312T070000
END:DAYLIGHT
BEGIN:STANDARD
TZOFFSETFROM:-0400
TZOFFSETTO:-0500
TZNAME:EST
DTSTART:20231105T060000
END:STANDARD
BEGIN:DAYLIGHT
TZOFFSETFROM:-0500
TZOFFSETTO:-0400
TZNAME:EDT
DTSTART:20240310T070000
END:DAYLIGHT
BEGIN:STANDARD
TZOFFSETFROM:-0400
TZOFFSETTO:-0500
TZNAME:EST
DTSTART:20241103T060000
END:STANDARD
BEGIN:DAYLIGHT
TZOFFSETFROM:-0500
TZOFFSETTO:-0400
TZNAME:EDT
DTSTART:20250309T070000
END:DAYLIGHT
BEGIN:STANDARD
TZOFFSETFROM:-0400
TZOFFSETTO:-0500
TZNAME:EST
DTSTART:20251102T060000
END:STANDARD
END:VTIMEZONE
BEGIN:VEVENT
DTSTART;TZID=America/New_York:20240910T180000
DTEND;TZID=America/New_York:20240910T203000
DTSTAMP:20260425T104045
CREATED:20240828T185808Z
LAST-MODIFIED:20240828T190835Z
UID:4330-1725991200-1726000200@swimxcel.org
SUMMARY:2024 Fall Team Fitting
DESCRIPTION:============================================================ \n  \nSee 2024 Fall Team Fitting Document LINK\nPDF Order Form LINK \nTeam Portal LINK\nTeam ID: 80304 \nFitting Date: Tue\, 9/10/24 6:00-8:30pm\nOrder Close: Fri\, 09/13/24\nDelivery: 10/13/24 ship to coach \nPRACTICE SUIT: Arena PUZZLED in Green w/ 1 color logo \nCOMPETITION SUIT: Female: Arena ST in Black w/ 2 color logo \nMale: Arena ST 2.0 in Black w/ 2-color logo \nTHIS IS NOW AN ARENA TEAM \nBring ARENA SIZING KITS & PRODUCTS \n#teamfitness #arena
URL:https://swimxcel.org/event/2024-fall-team-fitting/
LOCATION:Denunzio Pool\, 47 Faculty Rd\, Princeton\, NJ\, 08540\, United States
ATTACH;FMTTYPE=image/jpeg:https://swimxcel.org/wp-content/uploads/2024/08/2024-Fall-Fitting.jpg
ORGANIZER;CN="X-Cel Swimming":MAILTO:headcoach@swimxcel.org
END:VEVENT
END:VCALENDAR