BEGIN:VCALENDAR
VERSION:2.0
PRODID:-//X-CEL Swimming - ECPv6.15.20//NONSGML v1.0//EN
CALSCALE:GREGORIAN
METHOD:PUBLISH
X-ORIGINAL-URL:https://swimxcel.org
X-WR-CALDESC:Events for X-CEL Swimming
REFRESH-INTERVAL;VALUE=DURATION:PT1H
X-Robots-Tag:noindex
X-PUBLISHED-TTL:PT1H
BEGIN:VTIMEZONE
TZID:America/New_York
BEGIN:DAYLIGHT
TZOFFSETFROM:-0500
TZOFFSETTO:-0400
TZNAME:EDT
DTSTART:20240310T070000
END:DAYLIGHT
BEGIN:STANDARD
TZOFFSETFROM:-0400
TZOFFSETTO:-0500
TZNAME:EST
DTSTART:20241103T060000
END:STANDARD
BEGIN:DAYLIGHT
TZOFFSETFROM:-0500
TZOFFSETTO:-0400
TZNAME:EDT
DTSTART:20250309T070000
END:DAYLIGHT
BEGIN:STANDARD
TZOFFSETFROM:-0400
TZOFFSETTO:-0500
TZNAME:EST
DTSTART:20251102T060000
END:STANDARD
BEGIN:DAYLIGHT
TZOFFSETFROM:-0500
TZOFFSETTO:-0400
TZNAME:EDT
DTSTART:20260308T070000
END:DAYLIGHT
BEGIN:STANDARD
TZOFFSETFROM:-0400
TZOFFSETTO:-0500
TZNAME:EST
DTSTART:20261101T060000
END:STANDARD
BEGIN:DAYLIGHT
TZOFFSETFROM:-0500
TZOFFSETTO:-0400
TZNAME:EDT
DTSTART:20270314T070000
END:DAYLIGHT
BEGIN:STANDARD
TZOFFSETFROM:-0400
TZOFFSETTO:-0500
TZNAME:EST
DTSTART:20271107T060000
END:STANDARD
END:VTIMEZONE
BEGIN:VEVENT
DTSTART;TZID=America/New_York:20250912T181500
DTEND;TZID=America/New_York:20250912T201500
DTSTAMP:20260420T203642
CREATED:20250906T015707Z
LAST-MODIFIED:20250906T015707Z
UID:5128-1757700900-1757708100@swimxcel.org
SUMMARY:X-CEL Fall'25/26 Fitting
DESCRIPTION:Form: X-Cel 2025-2026 \nMetro Swim Shop will be doing our Fall Team Fitting on Friday 9/12 from\n6:25-8:15 @ the Denunzio Pool.\nPlease do your best to attend.  Those that can’t can place their orders on the Team Store/Portal:
URL:https://swimxcel.org/event/x-cel-fall25-26-fitting/
LOCATION:Denunzio Pool\, 47 Faculty Rd\, Princeton\, NJ\, 08540\, United States
END:VEVENT
BEGIN:VEVENT
DTSTART;TZID=America/New_York:20260305T190000
DTEND;TZID=America/New_York:20260305T203000
DTSTAMP:20260420T203642
CREATED:20260211T053835Z
LAST-MODIFIED:20260211T055001Z
UID:5429-1772737200-1772742600@swimxcel.org
SUMMARY:2026 Spring Tryout
DESCRIPTION:Tryout Form: Download Here
URL:https://swimxcel.org/event/2026-spring-try-out/
LOCATION:Denunzio Pool\, 47 Faculty Rd\, Princeton\, NJ\, 08540\, United States
CATEGORIES:Event
ATTACH;FMTTYPE=image/jpeg:https://swimxcel.org/wp-content/uploads/2026/02/Tryout352026.jpg
ORGANIZER;CN="X-Cel Swimming":MAILTO:headcoach@swimxcel.org
END:VEVENT
END:VCALENDAR