BEGIN:VCALENDAR
VERSION:2.0
PRODID:-//X-CEL Swimming - ECPv6.15.20//NONSGML v1.0//EN
CALSCALE:GREGORIAN
METHOD:PUBLISH
X-ORIGINAL-URL:https://swimxcel.org
X-WR-CALDESC:Events for X-CEL Swimming
REFRESH-INTERVAL;VALUE=DURATION:PT1H
X-Robots-Tag:noindex
X-PUBLISHED-TTL:PT1H
BEGIN:VTIMEZONE
TZID:America/New_York
BEGIN:DAYLIGHT
TZOFFSETFROM:-0500
TZOFFSETTO:-0400
TZNAME:EDT
DTSTART:20220313T070000
END:DAYLIGHT
BEGIN:STANDARD
TZOFFSETFROM:-0400
TZOFFSETTO:-0500
TZNAME:EST
DTSTART:20221106T060000
END:STANDARD
BEGIN:DAYLIGHT
TZOFFSETFROM:-0500
TZOFFSETTO:-0400
TZNAME:EDT
DTSTART:20230312T070000
END:DAYLIGHT
BEGIN:STANDARD
TZOFFSETFROM:-0400
TZOFFSETTO:-0500
TZNAME:EST
DTSTART:20231105T060000
END:STANDARD
BEGIN:DAYLIGHT
TZOFFSETFROM:-0500
TZOFFSETTO:-0400
TZNAME:EDT
DTSTART:20240310T070000
END:DAYLIGHT
BEGIN:STANDARD
TZOFFSETFROM:-0400
TZOFFSETTO:-0500
TZNAME:EST
DTSTART:20241103T060000
END:STANDARD
BEGIN:DAYLIGHT
TZOFFSETFROM:-0500
TZOFFSETTO:-0400
TZNAME:EDT
DTSTART:20250309T070000
END:DAYLIGHT
BEGIN:STANDARD
TZOFFSETFROM:-0400
TZOFFSETTO:-0500
TZNAME:EST
DTSTART:20251102T060000
END:STANDARD
BEGIN:DAYLIGHT
TZOFFSETFROM:-0500
TZOFFSETTO:-0400
TZNAME:EDT
DTSTART:20260308T070000
END:DAYLIGHT
BEGIN:STANDARD
TZOFFSETFROM:-0400
TZOFFSETTO:-0500
TZNAME:EST
DTSTART:20261101T060000
END:STANDARD
BEGIN:DAYLIGHT
TZOFFSETFROM:-0500
TZOFFSETTO:-0400
TZNAME:EDT
DTSTART:20270314T070000
END:DAYLIGHT
BEGIN:STANDARD
TZOFFSETFROM:-0400
TZOFFSETTO:-0500
TZNAME:EST
DTSTART:20271107T060000
END:STANDARD
END:VTIMEZONE
BEGIN:VEVENT
DTSTART;TZID=America/New_York:20260305T190000
DTEND;TZID=America/New_York:20260305T203000
DTSTAMP:20260420T101650
CREATED:20260211T053835Z
LAST-MODIFIED:20260211T055001Z
UID:5429-1772737200-1772742600@swimxcel.org
SUMMARY:2026 Spring Tryout
DESCRIPTION:Tryout Form: Download Here
URL:https://swimxcel.org/event/2026-spring-try-out/
LOCATION:Denunzio Pool\, 47 Faculty Rd\, Princeton\, NJ\, 08540\, United States
CATEGORIES:Event
ATTACH;FMTTYPE=image/jpeg:https://swimxcel.org/wp-content/uploads/2026/02/Tryout352026.jpg
ORGANIZER;CN="X-Cel Swimming":MAILTO:headcoach@swimxcel.org
END:VEVENT
BEGIN:VEVENT
DTSTART;TZID=America/New_York:20250313T200000
DTEND;TZID=America/New_York:20250313T210000
DTSTAMP:20260420T101650
CREATED:20250208T221251Z
LAST-MODIFIED:20250211T025738Z
UID:4718-1741896000-1741899600@swimxcel.org
SUMMARY:2025 Spring Tryout
DESCRIPTION:Tryout Form: Download Here\n.
URL:https://swimxcel.org/event/tryout032025/
LOCATION:Denunzio Pool\, 47 Faculty Rd\, Princeton\, NJ\, 08540\, United States
CATEGORIES:Event
ATTACH;FMTTYPE=image/jpeg:https://swimxcel.org/wp-content/uploads/2025/02/Tryout-032025.jpg
ORGANIZER;CN="X-Cel Swimming":MAILTO:headcoach@swimxcel.org
END:VEVENT
BEGIN:VEVENT
DTSTART;TZID=America/New_York:20240718T174500
DTEND;TZID=America/New_York:20240718T190000
DTSTAMP:20260420T101650
CREATED:20240710T012223Z
LAST-MODIFIED:20240710T012352Z
UID:4282-1721324700-1721329200@swimxcel.org
SUMMARY:2024 Summer Try-Out
DESCRIPTION: X-CEL SUMMER TRYOUTS  \n\n\n\n\nReady to make a splash? Join us for our summer tryouts! \n\n\n\n Tryout 1:\n Thursday\, July 18\, 2024\n 5:45 to 7 pm\n\n DeNunzio Pool\, Princeton University \n\n\n\n Tryout 2:\n Thursday\, August 15\, 2024\n\n 6:15 to 7 pm\n Fitness Center at Mercer County Community College \n\n\n\nPlease complete the tryout form and bring it with you on the day of the tryout.\n\n\n\n\n\n\n\n\n\nDon’t miss your chance to join the X-Cel team! 
URL:https://swimxcel.org/event/2024-summer-try-out/
LOCATION:Denunzio Pool\, 47 Faculty Rd\, Princeton\, NJ\, 08540\, United States
CATEGORIES:Event
ATTACH;FMTTYPE=image/jpeg:https://swimxcel.org/wp-content/uploads/2024/06/summer-tryouts-2.jpg
ORGANIZER;CN="X-Cel Swimming":MAILTO:headcoach@swimxcel.org
END:VEVENT
BEGIN:VEVENT
DTSTART;TZID=America/New_York:20240415T183000
DTEND;TZID=America/New_York:20240415T203000
DTSTAMP:20260420T101650
CREATED:20240305T174622Z
LAST-MODIFIED:20240305T181208Z
UID:4050-1713205800-1713213000@swimxcel.org
SUMMARY:2024 Spring Team Fitting
DESCRIPTION:  \n  \n  \n  \n  \n  \n  \n  \n  \n  \n  \n  \n  \n  \n  \n  \n  \n============================================================ \n  \nSee 2024 Spring Team Fitting Document LINK\nPDF Order Form LINK \nTeam Portal LINK\nTeam ID: 80304 \nFitting Date: Mon\, 4/15/24 6:30-8:30pm\nOrder Close: 04/18/24\nDelivery: 5/07/24 ship to coach \nPRACTICE SUIT: Arena PUZZLED in Green w/ 1 color logo \nCOMPETITION SUIT: Female: Arena ST in Black w/ 2 color logo \nMale: Arena ST 2.0 in Black w/ 2-color logo \nTHIS IS NOW AN ARENA TEAM \nBring ARENA SIZING KITS & PRODUCTS \n#teamfitness #arena
URL:https://swimxcel.org/event/2024-spring-team-fitting/
LOCATION:Denunzio Pool\, 47 Faculty Rd\, Princeton\, NJ\, 08540\, United States
CATEGORIES:Event
ATTACH;FMTTYPE=image/jpeg:https://swimxcel.org/wp-content/uploads/2024/03/2024-Spring-Fitting.jpg
ORGANIZER;CN="X-Cel Swimming":MAILTO:headcoach@swimxcel.org
END:VEVENT
BEGIN:VEVENT
DTSTART;TZID=America/New_York:20240307T194500
DTEND;TZID=America/New_York:20240307T210000
DTSTAMP:20260420T101650
CREATED:20240206T150301Z
LAST-MODIFIED:20240220T173432Z
UID:3995-1709840700-1709845200@swimxcel.org
SUMMARY:Team Tryout March 7th\, 2024
DESCRIPTION:Tryout Form: Download Here\n 
URL:https://swimxcel.org/event/tryout032024/
LOCATION:Denunzio Pool\, 47 Faculty Rd\, Princeton\, NJ\, 08540\, United States
CATEGORIES:Event
ATTACH;FMTTYPE=image/jpeg:https://swimxcel.org/wp-content/uploads/2024/02/Tryout-032024.jpg
ORGANIZER;CN="X-Cel Swimming":MAILTO:headcoach@swimxcel.org
END:VEVENT
BEGIN:VEVENT
DTSTART;TZID=America/New_York:20230912T183000
DTEND;TZID=America/New_York:20230912T203000
DTSTAMP:20260420T101650
CREATED:20230829T195143Z
LAST-MODIFIED:20230829T195658Z
UID:3790-1694543400-1694550600@swimxcel.org
SUMMARY:2023 Fall Team Fitting
DESCRIPTION:  \n  \n  \n  \n  \n  \n  \n  \n  \n  \n  \n  \n  \n  \n  \n  \n  \nSee PDF Order Form LINK \nTeam Portal LINK\nTeam ID: 80304 \nOrder Close: 09/15/23\nDelivery: ~10/20/23 ship to coach \nPRACTICE SUIT: Arena PUZZLED in Green w/ 1 color logo \nCOMPETITION SUIT: Female: Arena ST in Black w/ 2 color logo \nMale: Arena ST 2.0 in Black w/ 2-color logo \nTHIS IS NOW AN ARENA TEAM \nBring ARENA SIZING KITS & PRODUCTS \n#teamfitness #arena
URL:https://swimxcel.org/event/2023-fall-team-fitting/
LOCATION:Denunzio Pool\, 47 Faculty Rd\, Princeton\, NJ\, 08540\, United States
CATEGORIES:Event
ATTACH;FMTTYPE=image/jpeg:https://swimxcel.org/wp-content/uploads/2023/08/2023-Fall-Fitting.jpg
ORGANIZER;CN="X-Cel Swimming":MAILTO:headcoach@swimxcel.org
END:VEVENT
BEGIN:VEVENT
DTSTART;TZID=America/New_York:20230418T183000
DTEND;TZID=America/New_York:20230418T203000
DTSTAMP:20260420T101650
CREATED:20230331T012615Z
LAST-MODIFIED:20230331T205644Z
UID:2897-1681842600-1681849800@swimxcel.org
SUMMARY:2023 Spring Team Fitting
DESCRIPTION:X-CEL 2023  Team Suit fitting information\n  \n \n  \n  \n  \n  \n  \n  \n  \n  \n  \nSee PDF Order Form LINK  \nTeam Portal LINK\nTeam ID: 80304 \nOrder Close: 04/21/23\nDelivery: ~05/26/23 ship to coach \nPRACTICE SUIT: Arena PUZZLED in Green w/ 1 color logo \nCOMPETITION SUIT: Female: Arena ST in Black w/ 2 color logo \nMale: Arena ST 2.0 in Black w/ 2-color logo \nTHIS IS NOW AN ARENA TEAM \nBring ARENA SIZING KITS & PRODUCTS \n#teamfitness #arena
URL:https://swimxcel.org/event/2023-spring-team-fitting/
LOCATION:Denunzio Pool\, 47 Faculty Rd\, Princeton\, NJ\, 08540\, United States
CATEGORIES:Event
ATTACH;FMTTYPE=image/jpeg:https://swimxcel.org/wp-content/uploads/2023/03/2023-Spring-Fitting-1-e1680295933740.jpg
ORGANIZER;CN="Coach Lucy Le":MAILTO:xcelentries@xcelswimming.org
END:VEVENT
BEGIN:VEVENT
DTSTART;TZID=America/New_York:20230412T180000
DTEND;TZID=America/New_York:20230412T210000
DTSTAMP:20260420T101650
CREATED:20230320T182026Z
LAST-MODIFIED:20230331T204059Z
UID:2680-1681322400-1681333200@swimxcel.org
SUMMARY:X-CEL Annual Banquet
DESCRIPTION:Parents and siblings are welcome to our annual banquet!\nDJ Reggie!  Of course.\n\n\n$30/person; children under 5 free\nPlease submit this form by April 2\, 2023 to reserve your family’s place at the annual X-Cel Banquet.
URL:https://swimxcel.org/event/2023annual-banquet/
LOCATION:Mercer Oaks Golf Course\, 725 Village Road West\, West Windsor\, NJ\, 08550\, United States
CATEGORIES:Event
ATTACH;FMTTYPE=image/png:https://swimxcel.org/wp-content/uploads/2023/03/2023-Banquet-feature.png
ORGANIZER;CN="X-Cel Swimming":MAILTO:headcoach@swimxcel.org
END:VEVENT
END:VCALENDAR